BEGIN:VCALENDAR
VERSION:2.0
PRODID:-//jEvents 2.0 for Joomla//EN
CALSCALE:GREGORIAN
METHOD:PUBLISH
BEGIN:VEVENT
UID:20260914T190000-AR50
CATEGORIES:Beer Club
CREATED:20260206T164747
SUMMARY:Beer Club - Session IPA under 5%
DESCRIPTION:Session IPA under 5%<br/>Quarter: Q3 2026
DTSTAMP:20260423T123937
DTSTART:20260915T020000
DTEND:20260915T040000
SEQUENCE:0
TRANSP:OPAQUE
END:VEVENT
END:VCALENDAR