BEGIN:VCALENDAR
VERSION:2.0
PRODID:-//jEvents 2.0 for Joomla//EN
CALSCALE:GREGORIAN
METHOD:PUBLISH
BEGIN:VEVENT
UID:20260629T190000-AR39
CATEGORIES:Beer Club
CREATED:20260206T164747
SUMMARY:Beer Club - Faves Night
DESCRIPTION:Faves Night\nQuarter: Q2 2026
X-ALT-DESC;FMTTYPE=text/html:Faves Night<br/>Quarter: Q2 2026
DTSTAMP:20260423T025724
DTSTART:20260630T020000
DTEND:20260630T040000
SEQUENCE:0
TRANSP:OPAQUE
END:VEVENT
END:VCALENDAR