BEGIN:VCALENDAR
VERSION:2.0
PRODID:-//jEvents 2.0 for Joomla//EN
CALSCALE:GREGORIAN
METHOD:PUBLISH
BEGIN:VEVENT
UID:20260622T190000-AR38
CATEGORIES:Beer Club
CREATED:20260206T164747
SUMMARY:Beer Club - Specialty Releases and Limited Editions
DESCRIPTION:Specialty Releases and Limited Editions<br/>Quarter: Q2 2026
DTSTAMP:20260423T042225
DTSTART:20260623T020000
DTEND:20260623T040000
SEQUENCE:0
TRANSP:OPAQUE
END:VEVENT
END:VCALENDAR