BEGIN:VCALENDAR
VERSION:2.0
PRODID:-//jEvents 2.0 for Joomla//EN
CALSCALE:GREGORIAN
METHOD:PUBLISH
BEGIN:VEVENT
UID:20260615T190000-AR37
CATEGORIES:Beer Club
CREATED:20260206T164747
SUMMARY:Beer Club - Porters & Stouts - No Barrel
DESCRIPTION:Porters & Stouts - No Barrel<br/>Quarter: Q2 2026
DTSTAMP:20260423T042805
DTSTART:20260616T020000
DTEND:20260616T040000
SEQUENCE:0
TRANSP:OPAQUE
END:VEVENT
END:VCALENDAR