BEGIN:VCALENDAR
VERSION:2.0
PRODID:-//jEvents 2.0 for Joomla//EN
CALSCALE:GREGORIAN
METHOD:PUBLISH
BEGIN:VEVENT
UID:20260608T190000-AR36
CATEGORIES:Beer Club
CREATED:20260206T164747
SUMMARY:Beer Club - All American Beer - Better than PBR
DESCRIPTION:All American Beer - Better than PBR\nQuarter: Q2 2026
X-ALT-DESC;FMTTYPE=text/html:All American Beer - Better than PBR<br/>Quarter: Q2 2026
DTSTAMP:20260423T042308
DTSTART:20260609T020000
DTEND:20260609T040000
SEQUENCE:0
TRANSP:OPAQUE
END:VEVENT
END:VCALENDAR