BEGIN:VCALENDAR
VERSION:2.0
PRODID:-//jEvents 2.0 for Joomla//EN
CALSCALE:GREGORIAN
METHOD:PUBLISH
BEGIN:VEVENT
UID:20260601T190000-AR35
CATEGORIES:Beer Club
CREATED:20260206T164747
SUMMARY:Beer Club - Hazy IPA
DESCRIPTION:Hazy IPA<br/>Quarter: Q2 2026
DTSTAMP:20260423T043650
DTSTART:20260602T020000
DTEND:20260602T040000
SEQUENCE:0
TRANSP:OPAQUE
END:VEVENT
END:VCALENDAR