BEGIN:VCALENDAR
VERSION:2.0
PRODID:-//jEvents 2.0 for Joomla//EN
CALSCALE:GREGORIAN
METHOD:PUBLISH
BEGIN:VEVENT
UID:20260525T190000-AR34
CATEGORIES:Beer Club
CREATED:20260206T164747
SUMMARY:Beer Club - Bocks
DESCRIPTION:Bocks\nQuarter: Q2 2026
X-ALT-DESC;FMTTYPE=text/html:Bocks<br/>Quarter: Q2 2026
DTSTAMP:20260423T025227
DTSTART:20260526T020000
DTEND:20260526T040000
SEQUENCE:0
TRANSP:OPAQUE
END:VEVENT
END:VCALENDAR