BEGIN:VCALENDAR
VERSION:2.0
PRODID:-//jEvents 2.0 for Joomla//EN
CALSCALE:GREGORIAN
METHOD:PUBLISH
BEGIN:VEVENT
UID:20260518T190000-AR33
CATEGORIES:Beer Club
CREATED:20260206T164747
SUMMARY:Beer Club - West Coast Pilsners
DESCRIPTION:West Coast Pilsners<br/>Quarter: Q2 2026
DTSTAMP:20260423T043234
DTSTART:20260519T020000
DTEND:20260519T040000
SEQUENCE:0
TRANSP:OPAQUE
END:VEVENT
END:VCALENDAR