BEGIN:VCALENDAR
VERSION:2.0
PRODID:-//jEvents 2.0 for Joomla//EN
CALSCALE:GREGORIAN
METHOD:PUBLISH
BEGIN:VEVENT
UID:20260511T190000-AR32
CATEGORIES:Beer Club
CREATED:20260206T164747
SUMMARY:Beer Club - Wheats, Hefs, Wits
DESCRIPTION:Wheats, Hefs, Wits<br/>Quarter: Q2 2026
DTSTAMP:20260423T042526
DTSTART:20260512T020000
DTEND:20260512T040000
SEQUENCE:0
TRANSP:OPAQUE
END:VEVENT
END:VCALENDAR