BEGIN:VCALENDAR
VERSION:2.0
PRODID:-//jEvents 2.0 for Joomla//EN
CALSCALE:GREGORIAN
METHOD:PUBLISH
BEGIN:VEVENT
UID:20260504T190000-AR31
CATEGORIES:Beer Club
CREATED:20260206T164747
SUMMARY:Beer Club - Mexican, Mex Theme or Corn
DESCRIPTION:Mexican, Mex Theme or Corn<br/>Holiday: Cinco De Mayo<br/>Quarter: Q2 2026
DTSTAMP:20260423T030331
DTSTART:20260505T020000
DTEND:20260505T040000
SEQUENCE:0
TRANSP:OPAQUE
END:VEVENT
END:VCALENDAR