BEGIN:VCALENDAR
VERSION:2.0
PRODID:-//jEvents 2.0 for Joomla//EN
CALSCALE:GREGORIAN
METHOD:PUBLISH
BEGIN:VEVENT
UID:20260323T190000-AR25
CATEGORIES:Beer Club
CREATED:20260206T164747
SUMMARY:Beer Club - Hazy IPA
DESCRIPTION:Hazy IPA\nQuarter: Q1 2026
X-ALT-DESC;FMTTYPE=text/html:Hazy IPA<br/>Quarter: Q1 2026
DTSTAMP:20260423T025156
DTSTART:20260324T020000
DTEND:20260324T040000
SEQUENCE:0
TRANSP:OPAQUE
END:VEVENT
END:VCALENDAR