BEGIN:VCALENDAR
VERSION:2.0
PRODID:-//jEvents 2.0 for Joomla//EN
CALSCALE:GREGORIAN
METHOD:PUBLISH
BEGIN:VEVENT
UID:20260316T190000-AR24
CATEGORIES:Beer Club
CREATED:20260206T164747
SUMMARY:Beer Club - Irish or Browns
DESCRIPTION:Irish or Browns<br/>Holiday: St Patricks Day<br/>Quarter: Q1 2026
DTSTAMP:20260423T042308
DTSTART:20260317T020000
DTEND:20260317T040000
SEQUENCE:0
TRANSP:OPAQUE
END:VEVENT
END:VCALENDAR