BEGIN:VCALENDAR
VERSION:2.0
PRODID:-//jEvents 2.0 for Joomla//EN
CALSCALE:GREGORIAN
METHOD:PUBLISH
BEGIN:VEVENT
UID:20261228T190000-AR13
CATEGORIES:Beer Club
CREATED:20260206T164746
SUMMARY:Beer Club - Belgians, Doubles, Trippels, Quads
DESCRIPTION:Belgians, Doubles, Trippels, Quads\nQuarter: Q4 2026
X-ALT-DESC;FMTTYPE=text/html:Belgians, Doubles, Trippels, Quads<br/>Quarter: Q4 2026
DTSTAMP:20260423T055835
DTSTART:20261229T030000
DTEND:20261229T050000
SEQUENCE:0
TRANSP:OPAQUE
END:VEVENT
END:VCALENDAR