BEGIN:VCALENDAR
VERSION:2.0
PRODID:-//jEvents 2.0 for Joomla//EN
CALSCALE:GREGORIAN
METHOD:PUBLISH
BEGIN:VEVENT
UID:whiskeyclub-20261012@acorn
CATEGORIES:Whiskey Club
CREATED:20260310T174544
SUMMARY:Whiskey Club - 
DESCRIPTION:Oktoberfest
DTSTAMP:20260423T123938
DTSTART:20261012T190000
DTEND:20261012T210000
SEQUENCE:0
TRANSP:OPAQUE
END:VEVENT
END:VCALENDAR