BEGIN:VCALENDAR
VERSION:2.0
PRODID:-//jEvents 2.0 for Joomla//EN
CALSCALE:GREGORIAN
METHOD:PUBLISH
BEGIN:VEVENT
UID:20261116T190000-AR7
CATEGORIES:Beer Club
CREATED:20260206T164746
SUMMARY:Beer Club - Specialty Releases and Limited Editions
DESCRIPTION:Specialty Releases and Limited Editions<br/>Quarter: Q4 2026
DTSTAMP:20260423T111917
DTSTART:20261117T030000
DTEND:20261117T050000
SEQUENCE:0
TRANSP:OPAQUE
END:VEVENT
END:VCALENDAR